BEGIN:VCALENDAR
PRODID:-//eluceo/ical//2.0/EN
VERSION:2.0
CALSCALE:GREGORIAN
BEGIN:VEVENT
UID:a211c3f44b119b4eee6d9fe6913f61b6
DTSTAMP:20260420T121016Z
SUMMARY:Zumba with Sarah
DESCRIPTION:Hamilton Jewish News\nHJN Calendar\nhttps://hamiltonjewishnews.
 com/hjn-calendar/zumba-with-sarah-1762980870-504931\n\nTo register click h
 ere
DTSTART;TZID=America/Toronto:20251204T193000
DTEND;TZID=America/Toronto:20251204T201500
END:VEVENT
END:VCALENDAR
