BEGIN:VCALENDAR
PRODID:-//eluceo/ical//2.0/EN
VERSION:2.0
CALSCALE:GREGORIAN
BEGIN:VEVENT
UID:1da23b9d0c02733a6ca41c5ce89fa39f
DTSTAMP:20260420T120949Z
SUMMARY:Power of Hello-Virtual Training
DESCRIPTION:Hamilton Jewish News\nHJN Calendar\nhttps://hamiltonjewishnews.
 com/hjn-calendar/power-of-hello-virtual-training-1764354816-506054\n\nThe 
 goal of this course is to empower community members with the knowledge and
  skills to recognize\, assess\, and respond to potential security threats.
 \n\nFor registration details click here
DTSTART;TZID=America/Toronto:20260105T190000
DTEND;TZID=America/Toronto:20260105T203000
END:VEVENT
END:VCALENDAR
