BEGIN:VCALENDAR
PRODID:-//eluceo/ical//2.0/EN
VERSION:2.0
CALSCALE:GREGORIAN
BEGIN:VEVENT
UID:40e9ba671056ff1b69425dbff7d723e4
DTSTAMP:20260420T121118Z
SUMMARY:Na'amat Celebrity Author Event
DESCRIPTION:Hamilton Jewish News\nHJN Calendar\nhttps://hamiltonjewishnews.
 com/hjn-calendar/naamat-celebrity-author-event-1763491879-505314\n\nFundra
 ising event for Na'amat Hamilton featuring author Joy Fielding.
DTSTART;TZID=America/Toronto:20260511T190000
DTEND;TZID=America/Toronto:20260511T210000
END:VEVENT
END:VCALENDAR
