BEGIN:VCALENDAR
PRODID:-//eluceo/ical//2.0/EN
VERSION:2.0
CALSCALE:GREGORIAN
BEGIN:VEVENT
UID:8b13145db58ba49147506f52cf76a26d
DTSTAMP:20260420T150928Z
SUMMARY:Hamilton Jewish Family Services Annual Wine Tasting Event
DESCRIPTION:Hamilton Jewish News\nHJN Calendar\nhttps://hamiltonjewishnews.
 com/hjn-calendar/hamilton-jewish-family-services-annual-wine-tasting-event
 -1762906311-504830\n\nFull details to follow
DTSTART;TZID=America/Toronto:20260221T190000
DTEND;TZID=America/Toronto:20260221T210000
END:VEVENT
END:VCALENDAR
