BEGIN:VCALENDAR
PRODID:-//eluceo/ical//2.0/EN
VERSION:2.0
CALSCALE:GREGORIAN
BEGIN:VEVENT
UID:4210c10b4c96237b649eabc75e3e6ea0
DTSTAMP:20260420T120718Z
SUMMARY:Countering Active Threat Training-Virtual Training
DESCRIPTION:Hamilton Jewish News\nHJN Calendar\nhttps://hamiltonjewishnews.
 com/hjn-calendar/countering-active-threat-training-virtual-training-176435
 0286-506051\n\nA comprehensive training program to counter an active threa
 t event developed for faith-based institutions and houses of worship.\n\nF
 or registration details click here
DTSTART;TZID=America/Toronto:20260119T190000
DTEND;TZID=America/Toronto:20260119T203000
END:VEVENT
END:VCALENDAR
