BEGIN:VCALENDAR
PRODID:-//eluceo/ical//2.0/EN
VERSION:2.0
CALSCALE:GREGORIAN
BEGIN:VEVENT
UID:0f0eb0331024b1a2eefe554390d1086f
DTSTAMP:20260421T121819Z
SUMMARY:BBYO BBG Shabbat Dinner
DESCRIPTION:Hamilton Jewish News\nHJN Calendar\nhttps://hamiltonjewishnews.
 com/hjn-calendar/bbyo-bbg-shabbat-dinner-1772663211-512490\n\nCheck out bb
 yo.ca/hamilton for details
DTSTART;TZID=America/Toronto:20260306T173000
DTEND;TZID=America/Toronto:20260306T210000
END:VEVENT
END:VCALENDAR
