BEGIN:VCALENDAR
PRODID:-//eluceo/ical//2.0/EN
VERSION:2.0
CALSCALE:GREGORIAN
BEGIN:VEVENT
UID:24913229794933c002bd0446ff38ce2d
DTSTAMP:20260420T121109Z
SUMMARY:Activate Temple Junior & Senior Youth Group
DESCRIPTION:Hamilton Jewish News\nHJN Calendar\nhttps://hamiltonjewishnews.
 com/hjn-calendar/activate-temple-junior--senior-youth-group-1764023625-505
 821\n\nActivate Temple Junior & Senior Youth Group
DTSTART;TZID=America/Toronto:20260118T140000
DTEND;TZID=America/Toronto:20260118T160000
END:VEVENT
END:VCALENDAR
